Package: TOP Version: 1.0.0 Command: /Library/Frameworks/R.framework/Resources/bin/R CMD INSTALL TOP StartedAt: 2023-10-15 19:42:44 -0400 (Sun, 15 Oct 2023) EndedAt: 2023-10-15 19:43:40 -0400 (Sun, 15 Oct 2023) EllapsedTime: 56.1 seconds RetCode: 0 Status: OK