Package: TOP Version: 1.0.0 Command: rm -rf TOP.buildbin-libdir && mkdir TOP.buildbin-libdir && /Users/biocbuild/BBS/utils/build-universal.sh TOP_1.0.0.tar.gz /Library/Frameworks/R.framework/Resources/bin/R TOP.buildbin-libdir StartedAt: 2023-10-19 17:52:52 -0400 (Thu, 19 Oct 2023) EndedAt: 2023-10-19 17:54:15 -0400 (Thu, 19 Oct 2023) EllapsedTime: 82.5 seconds RetCode: 0 Status: OK PackageFile: TOP_1.0.0.tgz PackageFileSize: 524.5 KiB