git_url: https://git.bioconductor.org/packages/TOP git_branch: RELEASE_3_17 git_last_commit: 1df0834 git_last_commit_date: 2023-04-25 11:44:52 -0400 (Tue, 25 Apr 2023) Package: TOP Version: 1.0.0 Maintainer: Harry Robertson MaintainerEmail: harry.robertson at sydney.edu.au