Package: TCC Version: 1.40.0 Command: /Library/Frameworks/R.framework/Resources/bin/R CMD INSTALL TCC StartedAt: 2023-10-15 16:16:21 -0400 (Sun, 15 Oct 2023) EndedAt: 2023-10-15 16:17:15 -0400 (Sun, 15 Oct 2023) EllapsedTime: 53.6 seconds RetCode: 0 Status: OK