Package: TCC Version: 1.40.0 Command: /Library/Frameworks/R.framework/Resources/bin/R CMD check --install=check:TCC.install-out.txt --library=/Library/Frameworks/R.framework/Resources/library --no-vignettes --timings TCC_1.40.0.tar.gz StartedAt: 2023-10-19 06:11:54 -0400 (Thu, 19 Oct 2023) EndedAt: 2023-10-19 06:22:19 -0400 (Thu, 19 Oct 2023) EllapsedTime: 624.8 seconds RetCode: 0 Status: OK CheckDir: TCC.Rcheck Warnings: 0