Package: TCC Version: 1.40.0 Command: rm -rf TCC.buildbin-libdir && mkdir TCC.buildbin-libdir && /Users/biocbuild/BBS/utils/build-universal.sh TCC_1.40.0.tar.gz /Library/Frameworks/R.framework/Resources/bin/R TCC.buildbin-libdir StartedAt: 2023-10-19 17:45:07 -0400 (Thu, 19 Oct 2023) EndedAt: 2023-10-19 17:46:29 -0400 (Thu, 19 Oct 2023) EllapsedTime: 81.5 seconds RetCode: 0 Status: OK PackageFile: TCC_1.40.0.tgz PackageFileSize: 3.519 MiB