Package: SwathXtend Version: 2.22.0 Command: rm -rf SwathXtend.buildbin-libdir && mkdir SwathXtend.buildbin-libdir && /Users/biocbuild/BBS/utils/build-universal.sh SwathXtend_2.22.0.tar.gz /Library/Frameworks/R.framework/Resources/bin/R SwathXtend.buildbin-libdir StartedAt: 2023-10-19 17:41:24 -0400 (Thu, 19 Oct 2023) EndedAt: 2023-10-19 17:43:07 -0400 (Thu, 19 Oct 2023) EllapsedTime: 102.8 seconds RetCode: 0 Status: OK PackageFile: SwathXtend_2.22.0.tgz PackageFileSize: 346.7 MiB