git_url: https://git.bioconductor.org/packages/SpidermiR git_branch: RELEASE_3_17 git_last_commit: 896d1bb git_last_commit_date: 2023-04-25 10:45:19 -0400 (Tue, 25 Apr 2023) Package: SpidermiR Version: 1.30.0 Maintainer: Claudia Cava MaintainerEmail: claudia.cava at ibfm.cnr.it