git_url: https://git.bioconductor.org/packages/SimFFPE git_branch: RELEASE_3_17 git_last_commit: 6510e2a git_last_commit_date: 2023-04-25 11:15:01 -0400 (Tue, 25 Apr 2023) Package: SimFFPE Version: 1.12.0 Maintainer: Lanying Wei MaintainerEmail: lanying.wei at uni-muenster.de