git_url: https://git.bioconductor.org/packages/SeqSQC git_branch: RELEASE_3_17 git_last_commit: bcccfeb git_last_commit_date: 2023-04-25 10:57:44 -0400 (Tue, 25 Apr 2023) Package: SeqSQC Version: 1.22.0 Maintainer: Qian Liu MaintainerEmail: qliu7 at buffalo.edu