Package: ScreenR Version: 1.2.0 Command: /Library/Frameworks/R.framework/Resources/bin/R CMD INSTALL ScreenR StartedAt: 2023-10-15 15:51:48 -0400 (Sun, 15 Oct 2023) EndedAt: 2023-10-15 15:52:03 -0400 (Sun, 15 Oct 2023) EllapsedTime: 14.6 seconds RetCode: 0 Status: OK