Package: ScreenR Version: 1.2.0 Command: /Library/Frameworks/R.framework/Resources/bin/R CMD check --install=check:ScreenR.install-out.txt --library=/Library/Frameworks/R.framework/Resources/library --no-vignettes --timings ScreenR_1.2.0.tar.gz StartedAt: 2023-10-18 23:11:57 -0400 (Wed, 18 Oct 2023) EndedAt: 2023-10-18 23:20:35 -0400 (Wed, 18 Oct 2023) EllapsedTime: 517.1 seconds RetCode: 0 Status: OK CheckDir: ScreenR.Rcheck Warnings: 0