Package: ScreenR Version: 1.2.0 Command: /Library/Frameworks/R.framework/Resources/bin/R CMD build --keep-empty-dirs --no-resave-data ScreenR StartedAt: 2023-10-16 19:31:11 -0400 (Mon, 16 Oct 2023) EndedAt: 2023-10-16 19:33:51 -0400 (Mon, 16 Oct 2023) EllapsedTime: 160.7 seconds RetCode: 0 Status: OK PackageFile: ScreenR_1.2.0.tar.gz PackageFileSize: 1.858 MiB