Package: ScreenR Version: 1.2.0 Command: rm -rf ScreenR.buildbin-libdir && mkdir ScreenR.buildbin-libdir && /Users/biocbuild/BBS/utils/build-universal.sh ScreenR_1.2.0.tar.gz /Library/Frameworks/R.framework/Resources/bin/R ScreenR.buildbin-libdir StartedAt: 2023-10-19 17:02:47 -0400 (Thu, 19 Oct 2023) EndedAt: 2023-10-19 17:03:08 -0400 (Thu, 19 Oct 2023) EllapsedTime: 20.8 seconds RetCode: 0 Status: OK PackageFile: ScreenR_1.2.0.tgz PackageFileSize: 2.033 MiB