Package: STRINGdb Version: 2.12.1 Command: /Library/Frameworks/R.framework/Resources/bin/R CMD build --keep-empty-dirs --no-resave-data STRINGdb StartedAt: 2023-10-16 22:25:25 -0400 (Mon, 16 Oct 2023) EndedAt: 2023-10-16 22:30:03 -0400 (Mon, 16 Oct 2023) EllapsedTime: 278.1 seconds RetCode: 0 Status: OK PackageFile: STRINGdb_2.12.1.tar.gz PackageFileSize: 7.894 MiB