git_url: https://git.bioconductor.org/packages/STRINGdb git_branch: RELEASE_3_17 git_last_commit: 843ae6a git_last_commit_date: 2023-08-08 11:04:42 -0400 (Tue, 08 Aug 2023) Package: STRINGdb Version: 2.12.1 Maintainer: Damian Szklarczyk MaintainerEmail: damian.szklarczyk at imls.uzh.ch