Package: SPOTlight Version: 1.4.1 Command: /Library/Frameworks/R.framework/Resources/bin/R CMD INSTALL SPOTlight StartedAt: 2023-10-15 16:51:13 -0400 (Sun, 15 Oct 2023) EndedAt: 2023-10-15 16:52:02 -0400 (Sun, 15 Oct 2023) EllapsedTime: 48.7 seconds RetCode: 0 Status: OK