git_url: https://git.bioconductor.org/packages/SNPRelate git_branch: RELEASE_3_17 git_last_commit: 8a20e85 git_last_commit_date: 2023-05-01 20:07:52 -0400 (Mon, 01 May 2023) Package: SNPRelate Version: 1.34.1 Maintainer: Xiuwen Zheng MaintainerEmail: zhengx at u.washington.edu