Package: SCArray Version: 1.8.4 Command: /Library/Frameworks/R.framework/Resources/bin/R CMD INSTALL SCArray StartedAt: 2023-10-15 19:03:39 -0400 (Sun, 15 Oct 2023) EndedAt: 2023-10-15 19:04:48 -0400 (Sun, 15 Oct 2023) EllapsedTime: 69.6 seconds RetCode: 0 Status: OK