Package: SCArray Version: 1.8.4 Command: /Library/Frameworks/R.framework/Resources/bin/R CMD check --install=check:SCArray.install-out.txt --library=/Library/Frameworks/R.framework/Resources/library --no-vignettes --timings SCArray_1.8.4.tar.gz StartedAt: 2023-10-18 21:43:28 -0400 (Wed, 18 Oct 2023) EndedAt: 2023-10-18 21:49:54 -0400 (Wed, 18 Oct 2023) EllapsedTime: 385.8 seconds RetCode: 0 Status: OK CheckDir: SCArray.Rcheck Warnings: 0