Package: SCArray Version: 1.8.4 Command: /Library/Frameworks/R.framework/Resources/bin/R CMD build --keep-empty-dirs --no-resave-data SCArray StartedAt: 2023-10-16 18:05:40 -0400 (Mon, 16 Oct 2023) EndedAt: 2023-10-16 18:08:53 -0400 (Mon, 16 Oct 2023) EllapsedTime: 193.5 seconds RetCode: 0 Status: OK PackageFile: SCArray_1.8.4.tar.gz PackageFileSize: 1.262 MiB