Package: SCArray Version: 1.8.4 Command: rm -rf SCArray.buildbin-libdir && mkdir SCArray.buildbin-libdir && /Users/biocbuild/BBS/utils/build-universal.sh SCArray_1.8.4.tar.gz /Library/Frameworks/R.framework/Resources/bin/R SCArray.buildbin-libdir StartedAt: 2023-10-19 16:52:48 -0400 (Thu, 19 Oct 2023) EndedAt: 2023-10-19 16:54:36 -0400 (Thu, 19 Oct 2023) EllapsedTime: 107.2 seconds RetCode: 0 Status: OK PackageFile: SCArray_1.8.4.tgz PackageFileSize: 2.315 MiB