Package: SBGNview Version: 1.14.0 Command: /Library/Frameworks/R.framework/Resources/bin/R CMD check --install=check:SBGNview.install-out.txt --library=/Library/Frameworks/R.framework/Resources/library --no-vignettes --timings SBGNview_1.14.0.tar.gz StartedAt: 2023-10-18 21:28:09 -0400 (Wed, 18 Oct 2023) EndedAt: 2023-10-18 21:37:13 -0400 (Wed, 18 Oct 2023) EllapsedTime: 544.1 seconds RetCode: 0 Status: OK CheckDir: SBGNview.Rcheck Warnings: 0