git_url: https://git.bioconductor.org/packages/RnaSeqSampleSize git_branch: RELEASE_3_17 git_last_commit: b79c640 git_last_commit_date: 2023-04-25 11:23:40 -0400 (Tue, 25 Apr 2023) Package: RnaSeqSampleSize Version: 2.10.0 Maintainer: Shilin Zhao Developer MaintainerEmail: zhaoshilin at gmail.com