Package: Rmmquant Version: 1.18.0 Command: /Library/Frameworks/R.framework/Resources/bin/R CMD INSTALL Rmmquant StartedAt: 2023-10-15 17:58:11 -0400 (Sun, 15 Oct 2023) EndedAt: 2023-10-15 17:59:51 -0400 (Sun, 15 Oct 2023) EllapsedTime: 99.8 seconds RetCode: 0 Status: OK