Package: Rmagpie Version: 1.56.0 Command: rm -rf Rmagpie.buildbin-libdir && mkdir Rmagpie.buildbin-libdir && /Users/biocbuild/BBS/utils/build-universal.sh Rmagpie_1.56.0.tar.gz /Library/Frameworks/R.framework/Resources/bin/R Rmagpie.buildbin-libdir StartedAt: 2023-10-19 16:36:16 -0400 (Thu, 19 Oct 2023) EndedAt: 2023-10-19 16:36:51 -0400 (Thu, 19 Oct 2023) EllapsedTime: 35.4 seconds RetCode: 0 Status: OK PackageFile: Rmagpie_1.56.0.tgz PackageFileSize: 867.1 KiB