Package: Rhdf5lib Version: 1.22.1 Command: rm -rf Rhdf5lib.buildbin-libdir && mkdir Rhdf5lib.buildbin-libdir && /Users/biocbuild/BBS/utils/build-universal.sh Rhdf5lib_1.22.1.tar.gz /Library/Frameworks/R.framework/Resources/bin/R Rhdf5lib.buildbin-libdir StartedAt: 2023-10-19 16:28:09 -0400 (Thu, 19 Oct 2023) EndedAt: 2023-10-19 16:36:30 -0400 (Thu, 19 Oct 2023) EllapsedTime: 501.0 seconds RetCode: 0 Status: OK PackageFile: Rhdf5lib_1.22.1.tgz PackageFileSize: 10.08 MiB