Package: Rcpi Version: 1.36.1 Command: /Library/Frameworks/R.framework/Resources/bin/R CMD INSTALL Rcpi StartedAt: 2023-10-15 16:04:21 -0400 (Sun, 15 Oct 2023) EndedAt: 2023-10-15 16:04:50 -0400 (Sun, 15 Oct 2023) EllapsedTime: 29.6 seconds RetCode: 0 Status: OK