Package: Rcpi Version: 1.36.1 Command: rm -rf Rcpi.buildbin-libdir && mkdir Rcpi.buildbin-libdir && /Users/biocbuild/BBS/utils/build-universal.sh Rcpi_1.36.1.tar.gz /Library/Frameworks/R.framework/Resources/bin/R Rcpi.buildbin-libdir StartedAt: 2023-10-19 16:16:37 -0400 (Thu, 19 Oct 2023) EndedAt: 2023-10-19 16:17:26 -0400 (Thu, 19 Oct 2023) EllapsedTime: 48.4 seconds RetCode: 0 Status: OK PackageFile: Rcpi_1.36.1.tgz PackageFileSize: 2.566 MiB