Package: Rbwa Version: 1.4.0 Command: /Library/Frameworks/R.framework/Resources/bin/R CMD INSTALL Rbwa StartedAt: 2023-10-15 15:07:51 -0400 (Sun, 15 Oct 2023) EndedAt: 2023-10-15 15:08:14 -0400 (Sun, 15 Oct 2023) EllapsedTime: 23.6 seconds RetCode: 0 Status: OK