Package: Rbec Version: 1.8.0 Command: /Library/Frameworks/R.framework/Resources/bin/R CMD INSTALL Rbec StartedAt: 2023-10-15 16:41:53 -0400 (Sun, 15 Oct 2023) EndedAt: 2023-10-15 16:42:14 -0400 (Sun, 15 Oct 2023) EllapsedTime: 20.2 seconds RetCode: 1 Status: ERROR