git_url: https://git.bioconductor.org/packages/RbcBook1 git_branch: RELEASE_3_17 git_last_commit: a568d25 git_last_commit_date: 2023-04-25 09:44:28 -0400 (Tue, 25 Apr 2023) Package: RbcBook1 Version: 1.68.0 Maintainer: Vince Carey MaintainerEmail: stvjc at channing.harvard.edu