Package: Rarr Version: 1.0.3 Command: /Library/Frameworks/R.framework/Resources/bin/R CMD build --keep-empty-dirs --no-resave-data Rarr StartedAt: 2023-10-16 15:52:21 -0400 (Mon, 16 Oct 2023) EndedAt: 2023-10-16 15:55:01 -0400 (Mon, 16 Oct 2023) EllapsedTime: 160.1 seconds RetCode: 0 Status: OK PackageFile: Rarr_1.0.3.tar.gz PackageFileSize: 1.244 MiB