Package: RaggedExperiment Version: 1.24.2 Command: /Library/Frameworks/R.framework/Resources/bin/R CMD INSTALL RaggedExperiment StartedAt: 2023-10-15 15:33:06 -0400 (Sun, 15 Oct 2023) EndedAt: 2023-10-15 15:33:47 -0400 (Sun, 15 Oct 2023) EllapsedTime: 41.5 seconds RetCode: 0 Status: OK