Package: RaggedExperiment Version: 1.24.2 Command: /Library/Frameworks/R.framework/Resources/bin/R CMD build --keep-empty-dirs --no-resave-data RaggedExperiment StartedAt: 2023-10-16 15:46:19 -0400 (Mon, 16 Oct 2023) EndedAt: 2023-10-16 15:47:23 -0400 (Mon, 16 Oct 2023) EllapsedTime: 64.6 seconds RetCode: 0 Status: OK PackageFile: RaggedExperiment_1.24.2.tar.gz PackageFileSize: 385.9 KiB