Package: RUVSeq Version: 1.34.0 Command: /Library/Frameworks/R.framework/Resources/bin/R CMD check --install=check:RUVSeq.install-out.txt --library=/Library/Frameworks/R.framework/Resources/library --no-vignettes --timings RUVSeq_1.34.0.tar.gz StartedAt: 2023-10-18 21:09:52 -0400 (Wed, 18 Oct 2023) EndedAt: 2023-10-18 21:19:19 -0400 (Wed, 18 Oct 2023) EllapsedTime: 566.6 seconds RetCode: 0 Status: OK CheckDir: RUVSeq.Rcheck Warnings: 0