Package: RTNsurvival Version: 1.24.0 Command: /Library/Frameworks/R.framework/Resources/bin/R CMD INSTALL RTNsurvival StartedAt: 2023-10-15 19:24:49 -0400 (Sun, 15 Oct 2023) EndedAt: 2023-10-15 19:25:45 -0400 (Sun, 15 Oct 2023) EllapsedTime: 56.1 seconds RetCode: 0 Status: OK