Package: RTNsurvival Version: 1.24.0 Command: /Library/Frameworks/R.framework/Resources/bin/R CMD check --install=check:RTNsurvival.install-out.txt --library=/Library/Frameworks/R.framework/Resources/library --no-vignettes --timings RTNsurvival_1.24.0.tar.gz StartedAt: 2023-10-18 20:59:58 -0400 (Wed, 18 Oct 2023) EndedAt: 2023-10-18 21:06:59 -0400 (Wed, 18 Oct 2023) EllapsedTime: 420.6 seconds RetCode: 0 Status: OK CheckDir: RTNsurvival.Rcheck Warnings: 0