Package: RTN Version: 2.24.0 Command: /Library/Frameworks/R.framework/Resources/bin/R CMD INSTALL RTN StartedAt: 2023-10-15 19:23:02 -0400 (Sun, 15 Oct 2023) EndedAt: 2023-10-15 19:23:59 -0400 (Sun, 15 Oct 2023) EllapsedTime: 57.4 seconds RetCode: 0 Status: OK