Package: RProtoBufLib Version: 2.12.1 Command: /Library/Frameworks/R.framework/Resources/bin/R CMD build --keep-empty-dirs --no-resave-data RProtoBufLib StartedAt: 2023-10-16 17:29:40 -0400 (Mon, 16 Oct 2023) EndedAt: 2023-10-16 17:37:56 -0400 (Mon, 16 Oct 2023) EllapsedTime: 496.3 seconds RetCode: 0 Status: OK PackageFile: RProtoBufLib_2.12.1.tar.gz PackageFileSize: 2.795 MiB