Package: RProtoBufLib Version: 2.12.1 Command: rm -rf RProtoBufLib.buildbin-libdir && mkdir RProtoBufLib.buildbin-libdir && /Users/biocbuild/BBS/utils/build-universal.sh RProtoBufLib_2.12.1.tar.gz /Library/Frameworks/R.framework/Resources/bin/R RProtoBufLib.buildbin-libdir StartedAt: 2023-10-19 16:42:43 -0400 (Thu, 19 Oct 2023) EndedAt: 2023-10-19 16:53:54 -0400 (Thu, 19 Oct 2023) EllapsedTime: 671.4 seconds RetCode: 0 Status: OK PackageFile: RProtoBufLib_2.12.1.tgz PackageFileSize: 3.335 MiB