Package: RPA Version: 1.56.0 Command: /Library/Frameworks/R.framework/Resources/bin/R CMD build --keep-empty-dirs --no-resave-data RPA StartedAt: 2023-10-16 17:29:01 -0400 (Mon, 16 Oct 2023) EndedAt: 2023-10-16 17:29:39 -0400 (Mon, 16 Oct 2023) EllapsedTime: 38.2 seconds RetCode: 0 Status: OK PackageFile: RPA_1.56.0.tar.gz PackageFileSize: 260.4 KiB