Package: ROTS Version: 1.28.0 Command: rm -rf ROTS.buildbin-libdir && mkdir ROTS.buildbin-libdir && /Users/biocbuild/BBS/utils/build-universal.sh ROTS_1.28.0.tar.gz /Library/Frameworks/R.framework/Resources/bin/R ROTS.buildbin-libdir StartedAt: 2023-10-19 16:42:04 -0400 (Thu, 19 Oct 2023) EndedAt: 2023-10-19 16:42:50 -0400 (Thu, 19 Oct 2023) EllapsedTime: 46.2 seconds RetCode: 0 Status: OK PackageFile: ROTS_1.28.0.tgz PackageFileSize: 522.7 KiB