Package: RImmPort Version: 1.28.0 Command: /Library/Frameworks/R.framework/Resources/bin/R CMD check --install=check:RImmPort.install-out.txt --library=/Library/Frameworks/R.framework/Resources/library --no-vignettes --timings RImmPort_1.28.0.tar.gz StartedAt: 2023-10-18 19:21:45 -0400 (Wed, 18 Oct 2023) EndedAt: 2023-10-18 19:23:26 -0400 (Wed, 18 Oct 2023) EllapsedTime: 100.7 seconds RetCode: 0 Status: OK CheckDir: RImmPort.Rcheck Warnings: 0