Package: RBioinf Version: 1.60.0 Command: rm -rf RBioinf.buildbin-libdir && mkdir RBioinf.buildbin-libdir && /Users/biocbuild/BBS/utils/build-universal.sh RBioinf_1.60.0.tar.gz /Library/Frameworks/R.framework/Resources/bin/R RBioinf.buildbin-libdir StartedAt: 2023-10-19 16:13:10 -0400 (Thu, 19 Oct 2023) EndedAt: 2023-10-19 16:13:23 -0400 (Thu, 19 Oct 2023) EllapsedTime: 13.1 seconds RetCode: 0 Status: OK PackageFile: RBioinf_1.60.0.tgz PackageFileSize: 3.594 MiB