Package: RBM Version: 1.32.0 Command: /Library/Frameworks/R.framework/Resources/bin/R CMD build --keep-empty-dirs --no-resave-data RBM StartedAt: 2023-10-16 15:56:22 -0400 (Mon, 16 Oct 2023) EndedAt: 2023-10-16 15:57:35 -0400 (Mon, 16 Oct 2023) EllapsedTime: 73.5 seconds RetCode: 0 Status: OK PackageFile: RBM_1.32.0.tar.gz PackageFileSize: 370.7 KiB