Package: QSutils Version: 1.18.0 Command: /Library/Frameworks/R.framework/Resources/bin/R CMD INSTALL QSutils StartedAt: 2023-10-15 16:50:49 -0400 (Sun, 15 Oct 2023) EndedAt: 2023-10-15 16:51:11 -0400 (Sun, 15 Oct 2023) EllapsedTime: 22.3 seconds RetCode: 0 Status: OK