Package: QSutils Version: 1.18.0 Command: /Library/Frameworks/R.framework/Resources/bin/R CMD build --keep-empty-dirs --no-resave-data QSutils StartedAt: 2023-10-16 15:24:48 -0400 (Mon, 16 Oct 2023) EndedAt: 2023-10-16 15:28:22 -0400 (Mon, 16 Oct 2023) EllapsedTime: 213.5 seconds RetCode: 0 Status: OK PackageFile: QSutils_1.18.0.tar.gz PackageFileSize: 1.315 MiB