Package: QSutils Version: 1.18.0 Command: rm -rf QSutils.buildbin-libdir && mkdir QSutils.buildbin-libdir && /Users/biocbuild/BBS/utils/build-universal.sh QSutils_1.18.0.tar.gz /Library/Frameworks/R.framework/Resources/bin/R QSutils.buildbin-libdir StartedAt: 2023-10-19 16:08:03 -0400 (Thu, 19 Oct 2023) EndedAt: 2023-10-19 16:08:36 -0400 (Thu, 19 Oct 2023) EllapsedTime: 33.5 seconds RetCode: 0 Status: OK PackageFile: QSutils_1.18.0.tgz PackageFileSize: 1.427 MiB