Package: QDNAseq Version: 1.36.0 Command: /Library/Frameworks/R.framework/Resources/bin/R CMD INSTALL QDNAseq StartedAt: 2023-10-15 16:50:20 -0400 (Sun, 15 Oct 2023) EndedAt: 2023-10-15 16:50:58 -0400 (Sun, 15 Oct 2023) EllapsedTime: 37.3 seconds RetCode: 0 Status: OK